BEGIN:VCALENDAR
VERSION:2.0
PRODID:-//Portage Lakes Kiwanis - ECPv6.15.20//NONSGML v1.0//EN
CALSCALE:GREGORIAN
METHOD:PUBLISH
X-ORIGINAL-URL:https://plkiwanis.org
X-WR-CALDESC:Events for Portage Lakes Kiwanis
REFRESH-INTERVAL;VALUE=DURATION:PT1H
X-Robots-Tag:noindex
X-PUBLISHED-TTL:PT1H
BEGIN:VTIMEZONE
TZID:America/New_York
BEGIN:DAYLIGHT
TZOFFSETFROM:-0500
TZOFFSETTO:-0400
TZNAME:EDT
DTSTART:20270314T070000
END:DAYLIGHT
BEGIN:STANDARD
TZOFFSETFROM:-0400
TZOFFSETTO:-0500
TZNAME:EST
DTSTART:20271107T060000
END:STANDARD
BEGIN:DAYLIGHT
TZOFFSETFROM:-0500
TZOFFSETTO:-0400
TZNAME:EDT
DTSTART:20280312T070000
END:DAYLIGHT
BEGIN:STANDARD
TZOFFSETFROM:-0400
TZOFFSETTO:-0500
TZNAME:EST
DTSTART:20281105T060000
END:STANDARD
BEGIN:DAYLIGHT
TZOFFSETFROM:-0500
TZOFFSETTO:-0400
TZNAME:EDT
DTSTART:20290311T070000
END:DAYLIGHT
BEGIN:STANDARD
TZOFFSETFROM:-0400
TZOFFSETTO:-0500
TZNAME:EST
DTSTART:20291104T060000
END:STANDARD
BEGIN:DAYLIGHT
TZOFFSETFROM:-0500
TZOFFSETTO:-0400
TZNAME:EDT
DTSTART:20300310T070000
END:DAYLIGHT
BEGIN:STANDARD
TZOFFSETFROM:-0400
TZOFFSETTO:-0500
TZNAME:EST
DTSTART:20301103T060000
END:STANDARD
END:VTIMEZONE
BEGIN:VEVENT
DTSTART;TZID=America/New_York:20281227T183000
DTEND;TZID=America/New_York:20281227T200000
DTSTAMP:20260421T051208
CREATED:20240118T011211Z
LAST-MODIFIED:20240118T011211Z
UID:10000264-1861554600-1861560000@plkiwanis.org
SUMMARY:Kiwanis meeting
DESCRIPTION:
URL:https://plkiwanis.org/event/kiwanis-meeting/2028-12-27/
LOCATION:Portage Lakes Kiwanis Civic Center\, 725 Portage Lakes Drive\, Akron\, OH\, 44319\, United States
ORGANIZER;CN="Portage Lakes Kiwanis":MAILTO:al@plkiwanis.org
END:VEVENT
BEGIN:VEVENT
DTSTART;TZID=America/New_York:20290103T183000
DTEND;TZID=America/New_York:20290103T200000
DTSTAMP:20260421T051208
CREATED:20240118T011211Z
LAST-MODIFIED:20240118T011211Z
UID:10000265-1862159400-1862164800@plkiwanis.org
SUMMARY:Kiwanis meeting
DESCRIPTION:
URL:https://plkiwanis.org/event/kiwanis-meeting/2029-01-03/
LOCATION:Portage Lakes Kiwanis Civic Center\, 725 Portage Lakes Drive\, Akron\, OH\, 44319\, United States
ORGANIZER;CN="Portage Lakes Kiwanis":MAILTO:al@plkiwanis.org
END:VEVENT
BEGIN:VEVENT
DTSTART;TZID=America/New_York:20290110T183000
DTEND;TZID=America/New_York:20290110T200000
DTSTAMP:20260421T051208
CREATED:20240118T011211Z
LAST-MODIFIED:20240118T011211Z
UID:10000266-1862764200-1862769600@plkiwanis.org
SUMMARY:Kiwanis meeting
DESCRIPTION:
URL:https://plkiwanis.org/event/kiwanis-meeting/2029-01-10/
LOCATION:Portage Lakes Kiwanis Civic Center\, 725 Portage Lakes Drive\, Akron\, OH\, 44319\, United States
ORGANIZER;CN="Portage Lakes Kiwanis":MAILTO:al@plkiwanis.org
END:VEVENT
BEGIN:VEVENT
DTSTART;TZID=America/New_York:20290117T183000
DTEND;TZID=America/New_York:20290117T200000
DTSTAMP:20260421T051208
CREATED:20240118T011211Z
LAST-MODIFIED:20240118T011211Z
UID:10000267-1863369000-1863374400@plkiwanis.org
SUMMARY:Kiwanis meeting
DESCRIPTION:
URL:https://plkiwanis.org/event/kiwanis-meeting/2029-01-17/
LOCATION:Portage Lakes Kiwanis Civic Center\, 725 Portage Lakes Drive\, Akron\, OH\, 44319\, United States
ORGANIZER;CN="Portage Lakes Kiwanis":MAILTO:al@plkiwanis.org
END:VEVENT
END:VCALENDAR