BEGIN:VCALENDAR
VERSION:2.0
PRODID:-//Portage Lakes Kiwanis - ECPv6.15.20//NONSGML v1.0//EN
CALSCALE:GREGORIAN
METHOD:PUBLISH
X-WR-CALNAME:Portage Lakes Kiwanis
X-ORIGINAL-URL:https://plkiwanis.org
X-WR-CALDESC:Events for Portage Lakes Kiwanis
REFRESH-INTERVAL;VALUE=DURATION:PT1H
X-Robots-Tag:noindex
X-PUBLISHED-TTL:PT1H
BEGIN:VTIMEZONE
TZID:America/New_York
BEGIN:DAYLIGHT
TZOFFSETFROM:-0500
TZOFFSETTO:-0400
TZNAME:EDT
DTSTART:20250309T070000
END:DAYLIGHT
BEGIN:STANDARD
TZOFFSETFROM:-0400
TZOFFSETTO:-0500
TZNAME:EST
DTSTART:20251102T060000
END:STANDARD
BEGIN:DAYLIGHT
TZOFFSETFROM:-0500
TZOFFSETTO:-0400
TZNAME:EDT
DTSTART:20260308T070000
END:DAYLIGHT
BEGIN:STANDARD
TZOFFSETFROM:-0400
TZOFFSETTO:-0500
TZNAME:EST
DTSTART:20261101T060000
END:STANDARD
BEGIN:DAYLIGHT
TZOFFSETFROM:-0500
TZOFFSETTO:-0400
TZNAME:EDT
DTSTART:20270314T070000
END:DAYLIGHT
BEGIN:STANDARD
TZOFFSETFROM:-0400
TZOFFSETTO:-0500
TZNAME:EST
DTSTART:20271107T060000
END:STANDARD
END:VTIMEZONE
BEGIN:VEVENT
DTSTART;TZID=America/New_York:20260421T180000
DTEND;TZID=America/New_York:20260421T210000
DTSTAMP:20260421T053547
CREATED:20250209T143719Z
LAST-MODIFIED:20260305T175444Z
UID:10001499-1776794400-1776805200@plkiwanis.org
SUMMARY:Coventry Schools Foundation’s Taste of Coventry
DESCRIPTION:Taste of Coventry \nTuesday\, April 21\, 2026\n6 – 9 p.m.\nGather at the Lakes\n4315 Manchester Rd | New Franklin\, OH\nTickets: $35 pre-sale ($40 at the door)\nClick here to purchase tickets online:\nhttps://TOC26.eventbrite.com\n*Tickets can be purchased at Ayers Insurance\n500 W. Turkeyfoot Lake Rd. Akron\, OH 44319 \n Facebook @ Coventry Schools Foundation. \n \n 
URL:https://plkiwanis.org/event/coventry-schools-foundations-taste-of-coventry/
LOCATION:Gather at the Lakes\, 4315 Manchester Rd\, New Franklyn\, OH\, 44319\, United States
ORGANIZER;CN="Coventry School Foundation":MAILTO:kim@coventryschoolsfoundation.org
END:VEVENT
BEGIN:VEVENT
DTSTART;TZID=America/New_York:20260421T180000
DTEND;TZID=America/New_York:20260421T210000
DTSTAMP:20260421T053547
CREATED:20250828T144557Z
LAST-MODIFIED:20251024T144234Z
UID:10001543-1776794400-1776805200@plkiwanis.org
SUMMARY:Buckeye Canal
DESCRIPTION:District Meeting
URL:https://plkiwanis.org/event/buckeye-canal-6/
LOCATION:OH
END:VEVENT
END:VCALENDAR